BEGIN:VCALENDAR
VERSION:2.0
PRODID:-//InvisionCommunity Events 4.7.14//EN
METHOD:PUBLISH
CALSCALE:GREGORIAN
REFRESH-INTERVAL:PT15M
X-PUBLISHED-TTL:PT15M
X-WR-CALNAME:Wszystkie kalendarze - Forum SEO - PiO - Pozycjonowanie i Op
	tymalizacja
NAME:Wszystkie kalendarze - Forum SEO - PiO - Pozycjonowanie i Op
	tymalizacja
BEGIN:VTIMEZONE
TZID:Europe/London
TZURL:http://tzurl.org/zoneinfo/Europe/London
X-LIC-LOCATION:Europe/London
BEGIN:DAYLIGHT
TZOFFSETFROM:+0000
TZOFFSETTO:+0100
TZNAME:BST
DTSTART:20190331T020000Z
RRULE:FREQ=YEARLY;BYMONTH=3;BYDAY=-1SU
END:DAYLIGHT
BEGIN:STANDARD
TZOFFSETFROM:+0100
TZOFFSETTO:+0000
TZNAME:GMT
DTSTART:20191027T020000Z
RRULE:FREQ=YEARLY;BYMONTH=10;BYDAY=-1SU
END:STANDARD
END:VTIMEZONE
BEGIN:VTIMEZONE
TZID:Europe/London
TZURL:http://tzurl.org/zoneinfo/Europe/London
X-LIC-LOCATION:Europe/London
BEGIN:DAYLIGHT
TZOFFSETFROM:+0000
TZOFFSETTO:+0100
TZNAME:BST
DTSTART:20170326T020000Z
RRULE:FREQ=YEARLY;BYMONTH=3;BYDAY=-1SU
END:DAYLIGHT
BEGIN:STANDARD
TZOFFSETFROM:+0100
TZOFFSETTO:+0000
TZNAME:GMT
DTSTART:20171029T020000Z
RRULE:FREQ=YEARLY;BYMONTH=10;BYDAY=-1SU
END:STANDARD
END:VTIMEZONE
BEGIN:VTIMEZONE
TZID:Europe/London
TZURL:http://tzurl.org/zoneinfo/Europe/London
X-LIC-LOCATION:Europe/London
BEGIN:DAYLIGHT
TZOFFSETFROM:+0000
TZOFFSETTO:+0100
TZNAME:BST
DTSTART:20150329T020000Z
RRULE:FREQ=YEARLY;BYMONTH=3;BYDAY=-1SU
END:DAYLIGHT
BEGIN:STANDARD
TZOFFSETFROM:+0100
TZOFFSETTO:+0000
TZNAME:GMT
DTSTART:20151025T020000Z
RRULE:FREQ=YEARLY;BYMONTH=10;BYDAY=-1SU
END:STANDARD
END:VTIMEZONE
BEGIN:VTIMEZONE
TZID:Europe/London
TZURL:http://tzurl.org/zoneinfo/Europe/London
X-LIC-LOCATION:Europe/London
BEGIN:DAYLIGHT
TZOFFSETFROM:+0000
TZOFFSETTO:+0100
TZNAME:BST
DTSTART:20140330T020000Z
RRULE:FREQ=YEARLY;BYMONTH=3;BYDAY=-1SU
END:DAYLIGHT
BEGIN:STANDARD
TZOFFSETFROM:+0100
TZOFFSETTO:+0000
TZNAME:GMT
DTSTART:20141026T020000Z
RRULE:FREQ=YEARLY;BYMONTH=10;BYDAY=-1SU
END:STANDARD
END:VTIMEZONE
BEGIN:VTIMEZONE
TZID:Europe/London
TZURL:http://tzurl.org/zoneinfo/Europe/London
X-LIC-LOCATION:Europe/London
BEGIN:DAYLIGHT
TZOFFSETFROM:+0000
TZOFFSETTO:+0100
TZNAME:BST
DTSTART:20050327T020000Z
RRULE:FREQ=YEARLY;BYMONTH=3;BYDAY=-1SU
END:DAYLIGHT
BEGIN:STANDARD
TZOFFSETFROM:+0100
TZOFFSETTO:+0000
TZNAME:GMT
DTSTART:20051030T020000Z
RRULE:FREQ=YEARLY;BYMONTH=10;BYDAY=-1SU
END:STANDARD
END:VTIMEZONE
BEGIN:VEVENT
SUMMARY:Festiwal SEO 2019 Katowice
DTSTAMP:20190206T152535Z
SEQUENCE:0
UID:19-2-ddb73e9f206ba8645890920bbf01a9b4@www.forum.optymalizacja.com
ORGANIZER;CN="jimmi":admin@optymalizacja.com
DESCRIPTION:\n\n\n	Festiwal SEO odbędzie się 10 maja 2019 roku w Międ
	zynarodowym Centrum Kongresowym w Katowicach.\n\n\n\n	 \n\n\n\n	Ramowy pl
	an\n\n	13:00 – 14:45 – Rejestracja (kawa + coś do kawy)\n\n	14:45 –
	 15:00 – Sławomir Borowy „Powitanie”\n\n	15:00 – 16:30 – Sesja 
	I\n\n	16:30 – 17:00 – I Przerwa kawowa i przekąski\n\n\n\n	17:00 
	– 18:30 – Sesja II\n\n	18:30 – 19:00 – II Przerwa kawowa i przeką
	ski\n\n\n\n	19:00 – 20:30 – Sesja III\n\n	21:00 – Afterparty\n\n\n\
	n	 \n\n\n\n	 Cena biletu to 289 zł netto (355\,47 zł z VAT)\n\n\n\n	 
	\n\n\n\n	więcej informacji na stronie i tam także można kupić bilety\n
	\n\n\n	\nhttps://www.silesiasem.pl/festiwal-seo-2019-katowice\n\n	 \n\n\n
DTSTART:20190510T124500Z
END:VEVENT
BEGIN:VEVENT
SUMMARY:semKRK #11
DTSTAMP:20190206T151712Z
SEQUENCE:0
UID:18-2-ddb73e9f206ba8645890920bbf01a9b4@www.forum.optymalizacja.com
ORGANIZER;CN="jimmi":admin@optymalizacja.com
DESCRIPTION:\n\n	Jedenaste spotkanie krakowskiego semKRK odbędzie się 
	już 22 lutego 2019 r. w piątek - nie może Cię na nim zabraknąć!Koszt
	 biletów:59 zł – przedsprzedaż do 18.01 lub 100 pierwszych biletó
	w79 zł – cena regularnaRejestracja: https://semkrk11.evenea.pl/Rejestra
	cja rusza 14 stycznia\, poniedziałek o 10:00. Interesujesz się SEO/SEM/A
	nalityką albo marketingiem w sieci - koniecznie musisz z nami być! Zapew
	niamy prelekcje na poziomie - dynamiczne i konkretne\, bez autopromocji. W
	szystko ubrane w luźną\, barcampową atmosferę. Chcesz lepiej poznać
	 branżę i przedstawicieli lokalnego biznesu? Zapraszamy!Pomysłodawcą i
	 organizatorem spotkania jest DevaGroup.Jeśli chcesz dołączyć do wydar
	zenia jako partner lub masz coś ciekawego do powiedzenia w tematyce SEM\,
	 zachęcamy do kontaktu - hello@semkrk.pl\n\n
DTSTART:20190222T180000Z
DTEND:20190222T210000Z
END:VEVENT
BEGIN:VEVENT
SUMMARY:SemKRK #6 BIG
DTSTAMP:20170523T153104Z
SEQUENCE:0
UID:17-2-ddb73e9f206ba8645890920bbf01a9b4@www.forum.optymalizacja.com
ORGANIZER;CN="jimmi":admin@optymalizacja.com
DESCRIPTION:\n\n	 #6 BIG\n\n\n\n	 \n\n\n\n	14 czerwca 2017 odbędzie 
	się z wyjątkowa edycją krakowskich spotkań w tematyce SEM. semKRK to s
	potkanie dla właścicieli biznesów\, sklepów internetowych oraz specja
	listów z branży SEM i SEO - szeroko pojętego marketingu internetowego. 
	W czasie wydarzenia - konferencji utrzymanej w klimacie barcampowej -  na
	jlepsi specjaliści z branży opowiadają o swoich doświadczeniach\, prez
	entują case study\, opowiadają\, z jakimi problemami się spotkali\, jak
	 je rozwiązali oraz jakie efekty biznesowe przyniosło to dla ich klient
	ów. Dzielą się nie tylko wiedzą ale i doświadczeniem. Świetna sala n
	a krakowskim Kazimierzu\, 9 wyjątkowych prelegentów i niezapomniany barc
	ampowy klimat!\n\n\n\n	 \n\n\n\n	Wśród prelegentów:\n\n	Anna Janiszews
	ka (Google)\n\n	Łukasz Chiwszczuk (K2 Media)\n\n	Karol Dziedzic (Socjoman
	ia)\n\n	Paweł Gontarek (FabrykaMarketingu / Zgred.pl)\n\n	Tomasz Jeska (4
	8 Media)\n\n	Maciej Lewiński (iSurvival)\n\n	Michał Magdziarz (Deepcrawl
	 / Semetrical)\n\n	Damian Sałkowski (Senuto)\n\n	Artur Strzelecki (Silesi
	aSem)\n\n\n\n	 \n\n\n\n	Zapraszamy\n\n\n\n	 \n\n\n\n	Bilety dostępne tu
	taj https://semkrk6.evenea.pl/\n\n
DTSTART;VALUE=DATE:20170614
END:VEVENT
BEGIN:VEVENT
SUMMARY:SEO WAWA - LUTY
DTSTAMP:20170210T211200Z
SEQUENCE:0
UID:16-1-ddb73e9f206ba8645890920bbf01a9b4@www.forum.optymalizacja.com
ORGANIZER;CN="jimmi":admin@optymalizacja.com
DESCRIPTION:\n\n\n	Kulturalne spotkanie SEObrytów w Warszawie.\n\n\n\n	
	\n16 lutego od 19:00 \n\n\n	Pub Pod Baryłką\nGarbarska 7\, 00-306 Warsz
	awa\n\n\n\n	 \n\n\n\n	Między innymi @SEOMAN zaprasza \n\n\n
DTSTART:20170217T000000Z
DTEND:20170217T045900Z
END:VEVENT
BEGIN:VEVENT
SUMMARY:Elephate SEO Party
DTSTAMP:20170125T145834Z
SEQUENCE:0
UID:15-1-ddb73e9f206ba8645890920bbf01a9b4@www.forum.optymalizacja.com
ORGANIZER;CN="jimmi":admin@optymalizacja.com
DESCRIPTION:\n\n	 \n\n\n\n	Elephate SEO Party vol. IIKiedy: 24.02.2017 
	(piątek) Start: okolice godz. 18:00Spinujemy:{piwko|wódka|whiskey|lemon
	iada|pizza|kawka|szisza}.DART &amp\; FOOSBALL !Specjanie dla was zagra DJ 
	Youtube \n\n\n\n	 \n\n
DTSTART:20170225T020000Z
DTEND:20170225T130000Z
END:VEVENT
BEGIN:VEVENT
SUMMARY:Strategie SEO
DTSTAMP:20170125T052822Z
SEQUENCE:0
UID:14-2-ddb73e9f206ba8645890920bbf01a9b4@www.forum.optymalizacja.com
ORGANIZER;CN="zgred":admin@optymalizacja.com
DESCRIPTION:\n\n	Szkolenie SEO dla chetnych: http://www.internetstandar
	d.pl/konferencja/strategie-seo\n\n
DTSTART:20170228T080000Z
DTEND:20170228T160000Z
END:VEVENT
BEGIN:VEVENT
SUMMARY:SEO WAWA
DTSTAMP:20170119T191317Z
SEQUENCE:0
UID:13-2-ddb73e9f206ba8645890920bbf01a9b4@www.forum.optymalizacja.com
ORGANIZER;CN="jimmi":admin@optymalizacja.com
DESCRIPTION:\n\n\n	Podobno cykliczne spotkanie przy piwie seowców 20 st
	ycznia w Jeff's od 19\n\n\n\n	https://www.facebook.com/jeffspolemokotowsk
	ie\n\n\n
DTSTART:20170122T000000Z
DTEND:20170122T045900Z
END:VEVENT
BEGIN:VEVENT
SUMMARY:semKRK #4
DTSTAMP:20170111T160120Z
SEQUENCE:0
UID:10-2-ddb73e9f206ba8645890920bbf01a9b4@www.forum.optymalizacja.com
ORGANIZER;CN="jimmi":admin@optymalizacja.com
DESCRIPTION:\n\n\n\n	\n\n\n\n\n\n	Czwarte spotkanie krakowskiego semKRK 
	odbędzie się już 27 stycznia - nie może Cię na nim zabraknąć!Bilety
	: 19\,99zł\,Rejestracja: http://semkrk4.evenea.pl/ Start rejestracji: w
	torek 10.01 o 12:00.Interesujesz się SEO/SEM/Analityką albo marketingiem
	 w sieci - koniecznie musisz z nami być! Zapewniamy prelekcje na poziomie
	 - dynamiczne i konkretne\, bez autopromocji oraz luźną\, barcampową at
	mosferę. Chcesz lepiej poznać branżę i przedstawicieli lokalnego bizne
	su? Zapraszamy!Pomysłodawcą i organizatorem spotkania jest Deva Group.
	Jeśli chcesz dołączyć do wydarzenia jako partner lub masz coś ciekawe
	go do powiedzenia w tematyce SEM\, zachęcamy do kontaktu!\n\n\n\n\n\n\n\n
		 \n\n\n\n\n\n\n\n	Strona  www http://semkrk.pl/\n\n\n\n\n\n
DTSTART:20170127T170000Z
DTEND:20170127T225900Z
END:VEVENT
BEGIN:VEVENT
SUMMARY:Tydzień z Social Media Marketingiem
DTSTAMP:20170115T155118Z
SEQUENCE:0
UID:11-2-ddb73e9f206ba8645890920bbf01a9b4@www.forum.optymalizacja.com
ORGANIZER;CN="jimmi":admin@optymalizacja.com
DESCRIPTION:\n	♥ Instagram Marketing♥ Facebook Marketing &amp\; In
	sta Ads♥ Twitter &amp\; Periscope♥ LinkedIn &amp\; Slideshare\n♥ 
	Snapchat i Insta Stories\n
DTSTART:20170313T140000Z
DTEND:20170317T220000Z
END:VEVENT
BEGIN:VEVENT
SUMMARY:Piowe Piwko w Łodzi
DTSTAMP:20150810T203412Z
SEQUENCE:0
UID:9-1-ddb73e9f206ba8645890920bbf01a9b4@www.forum.optymalizacja.com
ORGANIZER;CN="jimmi":admin@optymalizacja.com
DESCRIPTION:\n\nZapraszamy wszystkich chętnych na spotkanie przy piwie 
	\nstart o 20  w spaleni słońcem czyli off piotrkowska ( https://www.face
	book.com/spalenisloncem ) \n \n\n\n\n
DTSTART;VALUE=DATE:20150820
ATTENDEE;CN="jimmi";CUTYPE=INDIVIDUAL;PARTSTAT=ACCEPTED:admi
	n@optymalizacja.com
END:VEVENT
BEGIN:VEVENT
SUMMARY:XannSEM
DTSTAMP:20140822T161154Z
SEQUENCE:0
UID:8-1-ddb73e9f206ba8645890920bbf01a9b4@www.forum.optymalizacja.com
ORGANIZER;CN="jimmi":admin@optymalizacja.com
DESCRIPTION:proba
DTSTART;VALUE=DATE:20140916
END:VEVENT
BEGIN:VEVENT
SUMMARY:Konkurs - Rozdanie nagród - Warszawa
DTSTAMP:20051021T220001Z
SEQUENCE:1
UID:1-1-ddb73e9f206ba8645890920bbf01a9b4@www.forum.optymalizacja.com
ORGANIZER;CN="nrm":admin@optymalizacja.com
DESCRIPTION:\n\nInformacje o rozdaniu nagród w dziale konkursowym:\n\nh
	ttp://forum.optymalizacja.com/index.php?showforum=34\n\n \n\n
DTSTART:20051021T020000Z
END:VEVENT
END:VCALENDAR
